BEGIN:VCALENDAR
VERSION:2.0
PRODID:-//VfL Gladbeck - Leichtathletik - ECPv6.15.20//NONSGML v1.0//EN
CALSCALE:GREGORIAN
METHOD:PUBLISH
X-WR-CALNAME:VfL Gladbeck - Leichtathletik
X-ORIGINAL-URL:https://leichtathletik.vflgladbeck.de
X-WR-CALDESC:Veranstaltungen für VfL Gladbeck - Leichtathletik
REFRESH-INTERVAL;VALUE=DURATION:PT1H
X-Robots-Tag:noindex
X-PUBLISHED-TTL:PT1H
BEGIN:VTIMEZONE
TZID:Europe/Berlin
BEGIN:DAYLIGHT
TZOFFSETFROM:+0100
TZOFFSETTO:+0200
TZNAME:CEST
DTSTART:20240331T010000
END:DAYLIGHT
BEGIN:STANDARD
TZOFFSETFROM:+0200
TZOFFSETTO:+0100
TZNAME:CET
DTSTART:20241027T010000
END:STANDARD
BEGIN:DAYLIGHT
TZOFFSETFROM:+0100
TZOFFSETTO:+0200
TZNAME:CEST
DTSTART:20250330T010000
END:DAYLIGHT
BEGIN:STANDARD
TZOFFSETFROM:+0200
TZOFFSETTO:+0100
TZNAME:CET
DTSTART:20251026T010000
END:STANDARD
BEGIN:DAYLIGHT
TZOFFSETFROM:+0100
TZOFFSETTO:+0200
TZNAME:CEST
DTSTART:20260329T010000
END:DAYLIGHT
BEGIN:STANDARD
TZOFFSETFROM:+0200
TZOFFSETTO:+0100
TZNAME:CET
DTSTART:20261025T010000
END:STANDARD
END:VTIMEZONE
BEGIN:VEVENT
DTSTART;TZID=Europe/Berlin:20250907T080000
DTEND;TZID=Europe/Berlin:20250907T170000
DTSTAMP:20260421T202722
CREATED:20241115T114647Z
LAST-MODIFIED:20241115T114647Z
UID:289111-1757232000-1757264400@leichtathletik.vflgladbeck.de
SUMMARY:Fritz-Grenz-Sportfest
DESCRIPTION:U10-M/F
URL:https://leichtathletik.vflgladbeck.de/kalender/fritz-grenz-sportfest-2/
LOCATION:Stadion Gladbeck\, Bohmertstraße 1\, Gladbeck\, NRW\, 45964
ORGANIZER;CN="VfL Gladbeck - Leichtathletik":MAILTO:leichtathletik@vflgladbeck.de
END:VEVENT
END:VCALENDAR